BEGIN:VCALENDAR
VERSION:2.0
PRODID:-//destination.one//NONSGML destination.meta API//DE
X-WR-CALDESC:A calendar powered by destination.meta
X-WR-CALNAME:neukirchen-bhl-blut Kalender via destination.meta
BEGIN:VEVENT
CATEGORIES:Brauchtum/Kultur
CATEGORIES:Bühnenkunst
CATEGORIES:Geselligkeit/Spiele/Treffen
CATEGORIES:Konzert
CATEGORIES:Sonstiges
DESCRIPTION:Waldmünchen (er)klingt\n\nmehr Informationen unter http://pages
 .destination.one/de/neukirchen-bhl-blut/streaming/detail/Event/e_101260280
 /waldm-nchen-er-klingt-konzert
DTEND;TZID=Europe/Berlin:20261016T220000
DTSTAMP:20260423T102827Z
DTSTART;TZID=Europe/Berlin:20261016T190000
GEO:49.376785;12.703403
LOCATION:TV-Halle Waldmünchen\, Leißstraße 2\, Waldmünchen
SEQUENCE:0
SUMMARY:Waldmünchen (er)klingt Konzert
UID:e_101260280_iv0
URL:http://pages.destination.one/de/neukirchen-bhl-blut/streaming/detail/Ev
 ent/e_101260280/waldm-nchen-er-klingt-konzert
END:VEVENT
BEGIN:VTIMEZONE
TZID:Europe/Berlin
X-LIC-LOCATION:Europe/Berlin
BEGIN:DAYLIGHT
DTSTART:19700329T020000
RRULE:FREQ=YEARLY;BYDAY=-1SU;BYMONTH=3
TZNAME:CEST
TZOFFSETFROM:+0100
TZOFFSETTO:+0200
END:DAYLIGHT
BEGIN:STANDARD
DTSTART:19701025T030000
RRULE:FREQ=YEARLY;BYDAY=-1SU;BYMONTH=10
TZNAME:CET
TZOFFSETFROM:+0200
TZOFFSETTO:+0100
END:STANDARD
END:VTIMEZONE
END:VCALENDAR
